BEGIN:VCALENDAR
VERSION:2.0
PRODID:-//Freedom&#039;s Way National Heritage Area - ECPv6.15.20//NONSGML v1.0//EN
CALSCALE:GREGORIAN
METHOD:PUBLISH
X-ORIGINAL-URL:https://freedomsway.org
X-WR-CALDESC:Events for Freedom&#039;s Way National Heritage Area
REFRESH-INTERVAL;VALUE=DURATION:PT1H
X-Robots-Tag:noindex
X-PUBLISHED-TTL:PT1H
BEGIN:VTIMEZONE
TZID:UTC
BEGIN:STANDARD
TZOFFSETFROM:+0000
TZOFFSETTO:+0000
TZNAME:UTC
DTSTART:20250101T000000
END:STANDARD
END:VTIMEZONE
BEGIN:VEVENT
DTSTART;TZID=UTC:20260423T103000
DTEND;TZID=UTC:20260423T110000
DTSTAMP:20260422T213823
CREATED:20260401T182208Z
LAST-MODIFIED:20260401T182208Z
UID:35974-1776940200-1776942000@freedomsway.org
SUMMARY:Earth Day Storytime & Activity
DESCRIPTION:
URL:https://freedomsway.org/event/earth-day-storytime-activity/
LOCATION:Bolton Public Library\, 738 Main Street\, Bolton\, MA\, 01740\, United States
CATEGORIES:Talks
ATTACH;FMTTYPE=image/png:https://freedomsway.org/wp-content/uploads/2026/04/event1.png
END:VEVENT
END:VCALENDAR